BEGIN:VCALENDAR
VERSION:2.0
PRODID:-//Springvale Parish of St. Joseph’s Church, St. Mark’s Church and the Vietnamese Community - ECPv6.2.3//NONSGML v1.0//EN
CALSCALE:GREGORIAN
METHOD:PUBLISH
X-ORIGINAL-URL:https://stjosephandstmark.org
X-WR-CALDESC:Events for Springvale Parish of St. Joseph’s Church, St. Mark’s Church and the Vietnamese Community
REFRESH-INTERVAL;VALUE=DURATION:PT1H
X-Robots-Tag:noindex
X-PUBLISHED-TTL:PT1H
BEGIN:VTIMEZONE
TZID:Asia/Shanghai
BEGIN:STANDARD
TZOFFSETFROM:+0800
TZOFFSETTO:+0800
TZNAME:CST
DTSTART:20250101T000000
END:STANDARD
END:VTIMEZONE
BEGIN:VEVENT
DTSTART;TZID=Asia/Shanghai:20251023T080000
DTEND;TZID=Asia/Shanghai:20251023T170000
DTSTAMP:20260424T105726
CREATED:20250409T053438Z
LAST-MODIFIED:20250409T053438Z
UID:10000634-1761206400-1761238800@stjosephandstmark.org
SUMMARY:St Mark's School 1st Eucharist Candidates Confession at 11.40am
DESCRIPTION:
URL:https://stjosephandstmark.org/event/st-marks-school-1st-eucharist-candidates-confession-at-11-40am-2/
END:VEVENT
END:VCALENDAR