BEGIN:VCALENDAR
VERSION:2.0
PRODID:-//Springvale Parish of St. Joseph’s Church, St. Mark’s Church and the Vietnamese Community - ECPv6.2.3//NONSGML v1.0//EN
CALSCALE:GREGORIAN
METHOD:PUBLISH
X-WR-CALNAME:Springvale Parish of St. Joseph’s Church, St. Mark’s Church and the Vietnamese Community
X-ORIGINAL-URL:https://stjosephandstmark.org
X-WR-CALDESC:Events for Springvale Parish of St. Joseph’s Church, St. Mark’s Church and the Vietnamese Community
REFRESH-INTERVAL;VALUE=DURATION:PT1H
X-Robots-Tag:noindex
X-PUBLISHED-TTL:PT1H
BEGIN:VTIMEZONE
TZID:Asia/Shanghai
BEGIN:STANDARD
TZOFFSETFROM:+0800
TZOFFSETTO:+0800
TZNAME:CST
DTSTART:20240101T000000
END:STANDARD
TZID:UTC
BEGIN:STANDARD
TZOFFSETFROM:+0000
TZOFFSETTO:+0000
TZNAME:UTC
DTSTART:20240101T000000
END:STANDARD
END:VTIMEZONE
BEGIN:VEVENT
DTSTART;TZID=Asia/Shanghai:20241005T000000
DTEND;TZID=Asia/Shanghai:20241005T235900
DTSTAMP:20260425T202127
CREATED:20240308T041554Z
LAST-MODIFIED:20240308T051517Z
UID:10000451-1728086400-1728172740@stjosephandstmark.org
SUMMARY:St Francis' Day
DESCRIPTION:
URL:https://stjosephandstmark.org/event/st-francis%ef%bf%bd-day/
END:VEVENT
BEGIN:VEVENT
DTSTART;TZID=Asia/Shanghai:20240824T000000
DTEND;TZID=Asia/Shanghai:20240824T235900
DTSTAMP:20260425T202127
CREATED:20240308T041554Z
LAST-MODIFIED:20240308T051508Z
UID:10000450-1724457600-1724543940@stjosephandstmark.org
SUMMARY:St Mark's School Confirmation Mass at 1pm & 3pm
DESCRIPTION:
URL:https://stjosephandstmark.org/event/st-marks-school-confirmation-mass-at-1pm-3pm/
END:VEVENT
BEGIN:VEVENT
DTSTART;TZID=Asia/Shanghai:20240822T000000
DTEND;TZID=Asia/Shanghai:20240822T235900
DTSTAMP:20260425T202127
CREATED:20240308T041544Z
LAST-MODIFIED:20240308T051455Z
UID:10000449-1724284800-1724371140@stjosephandstmark.org
SUMMARY:St Mark's School Confirmation Candidates Confession at 11.40am
DESCRIPTION:
URL:https://stjosephandstmark.org/event/st-marks-school-confirmation-candidates-confession-at-11-40am/
END:VEVENT
BEGIN:VEVENT
DTSTART;TZID=Asia/Shanghai:20240821T000000
DTEND;TZID=Asia/Shanghai:20240821T235900
DTSTAMP:20260425T202127
CREATED:20240308T041543Z
LAST-MODIFIED:20240308T051443Z
UID:10000448-1724198400-1724284740@stjosephandstmark.org
SUMMARY:PPC Meeting 7.30pm
DESCRIPTION:
URL:https://stjosephandstmark.org/event/ppc-meeting-7-30pm-4/
END:VEVENT
BEGIN:VEVENT
DTSTART;TZID=Asia/Shanghai:20240815T000000
DTEND;TZID=Asia/Shanghai:20240815T235900
DTSTAMP:20260425T202127
CREATED:20240308T041543Z
LAST-MODIFIED:20240308T051431Z
UID:10000447-1723680000-1723766340@stjosephandstmark.org
SUMMARY:Feast of the Assumption  - St Joseph's School Mass at 12pm\, and St Mark's School Mass at 9am
DESCRIPTION:
URL:https://stjosephandstmark.org/event/feast-of-the-assumption-st-josephs-school-mass-at-12pm-and-st-marks-school-mass-at-9am/
END:VEVENT
BEGIN:VEVENT
DTSTART;TZID=Asia/Shanghai:20240810T000000
DTEND;TZID=Asia/Shanghai:20240810T235900
DTSTAMP:20260425T202127
CREATED:20240308T041543Z
LAST-MODIFIED:20240308T051421Z
UID:10000446-1723248000-1723334340@stjosephandstmark.org
SUMMARY:St Mark's School 1st Eucharist Commitment Mass at 6pm
DESCRIPTION:
URL:https://stjosephandstmark.org/event/st-marks-school-1st-eucharist-commitment-mass-at-6pm/
END:VEVENT
BEGIN:VEVENT
DTSTART;TZID=Asia/Shanghai:20240731T000000
DTEND;TZID=Asia/Shanghai:20240731T235900
DTSTAMP:20260425T202127
CREATED:20240308T041543Z
LAST-MODIFIED:20240308T051411Z
UID:10000445-1722384000-1722470340@stjosephandstmark.org
SUMMARY:St Mark's School 1st Eucharist parents/students information night at 6pm
DESCRIPTION:
URL:https://stjosephandstmark.org/event/st-marks-school-1st-eucharist-parents-students-information-night-at-6pm/
END:VEVENT
BEGIN:VEVENT
DTSTART;TZID=Asia/Shanghai:20240620T000000
DTEND;TZID=Asia/Shanghai:20240620T235900
DTSTAMP:20260425T202127
CREATED:20240308T041529Z
LAST-MODIFIED:20240308T051359Z
UID:10000444-1718841600-1718927940@stjosephandstmark.org
SUMMARY:St Joseph's FC meeting 7.30pm
DESCRIPTION:
URL:https://stjosephandstmark.org/event/st-joseph%ef%bf%bds-fc-meeting-7-30pm-2/
END:VEVENT
BEGIN:VEVENT
DTSTART;TZID=Asia/Shanghai:20240619T000000
DTEND;TZID=Asia/Shanghai:20240619T235900
DTSTAMP:20260425T202127
CREATED:20240308T041528Z
LAST-MODIFIED:20240308T051345Z
UID:10000443-1718755200-1718841540@stjosephandstmark.org
SUMMARY:PPC Meeting 7.30pm
DESCRIPTION:
URL:https://stjosephandstmark.org/event/ppc-meeting-7-30pm-3/
END:VEVENT
BEGIN:VEVENT
DTSTART;TZID=Asia/Shanghai:20240615T000000
DTEND;TZID=Asia/Shanghai:20240615T235900
DTSTAMP:20260425T202127
CREATED:20240308T041528Z
LAST-MODIFIED:20240308T051331Z
UID:10000442-1718409600-1718495940@stjosephandstmark.org
SUMMARY:St Mark's School Confirmation commitment Mass at 6pm
DESCRIPTION:
URL:https://stjosephandstmark.org/event/st-marks-school-confirmation-commitment-mass-at-6pm/
END:VEVENT
BEGIN:VEVENT
DTSTART;TZID=Asia/Shanghai:20240605T000000
DTEND;TZID=Asia/Shanghai:20240605T235900
DTSTAMP:20260425T202127
CREATED:20240308T041528Z
LAST-MODIFIED:20240308T051322Z
UID:10000441-1717545600-1717631940@stjosephandstmark.org
SUMMARY:St Mark's School Confirmation information night at 6pm
DESCRIPTION:
URL:https://stjosephandstmark.org/event/st-marks-school-confirmation-information-night-at-6pm/
END:VEVENT
BEGIN:VEVENT
DTSTART;TZID=Asia/Shanghai:20240522T000000
DTEND;TZID=Asia/Shanghai:20240522T235900
DTSTAMP:20260425T202127
CREATED:20240308T041528Z
LAST-MODIFIED:20240308T051313Z
UID:10000440-1716336000-1716422340@stjosephandstmark.org
SUMMARY:St Mark's School 1st Reconciliation at 6pm
DESCRIPTION:
URL:https://stjosephandstmark.org/event/st-marks-school-1st-reconciliation-at-6pm/
END:VEVENT
BEGIN:VEVENT
DTSTART;TZID=Asia/Shanghai:20240518T000000
DTEND;TZID=Asia/Shanghai:20240518T235900
DTSTAMP:20260425T202127
CREATED:20240308T041513Z
LAST-MODIFIED:20240308T051007Z
UID:10000439-1715990400-1716076740@stjosephandstmark.org
SUMMARY:St Joseph's Confirmation 10am & 1pm
DESCRIPTION:
URL:https://stjosephandstmark.org/event/st-joseph%ef%bf%bds-confirmation-10am-1pm/
END:VEVENT
BEGIN:VEVENT
DTSTART;TZID=Asia/Shanghai:20240517T000000
DTEND;TZID=Asia/Shanghai:20240517T235900
DTSTAMP:20260425T202127
CREATED:20240308T041513Z
LAST-MODIFIED:20240308T050930Z
UID:10000438-1715904000-1715990340@stjosephandstmark.org
SUMMARY:St Mark's School Family Week Mass at 2.25pm
DESCRIPTION:
URL:https://stjosephandstmark.org/event/st-marks-school-family-week-mass-at-2-25pm/
END:VEVENT
BEGIN:VEVENT
DTSTART;TZID=Asia/Shanghai:20240509T000000
DTEND;TZID=Asia/Shanghai:20240509T235900
DTSTAMP:20260425T202127
CREATED:20240308T041513Z
LAST-MODIFIED:20240308T050921Z
UID:10000437-1715212800-1715299140@stjosephandstmark.org
SUMMARY:Ascension of Jesus
DESCRIPTION:
URL:https://stjosephandstmark.org/event/ascension-of-jesus/
END:VEVENT
BEGIN:VEVENT
DTSTART;TZID=Asia/Shanghai:20240427T080000
DTEND;TZID=Asia/Shanghai:20240427T170000
DTSTAMP:20260425T202127
CREATED:20240324T224841Z
LAST-MODIFIED:20240324T224841Z
UID:10000534-1714204800-1714237200@stjosephandstmark.org
SUMMARY:St Mark's Church 25th Anniversary Celebration at 6pm
DESCRIPTION:
URL:https://stjosephandstmark.org/event/st-marks-church-25th-anniversary-celebration-at-6pm/
END:VEVENT
BEGIN:VEVENT
DTSTART;TZID=Asia/Shanghai:20240427T000000
DTEND;TZID=Asia/Shanghai:20240427T235900
DTSTAMP:20260425T202127
CREATED:20240308T041512Z
LAST-MODIFIED:20240308T050912Z
UID:10000436-1714176000-1714262340@stjosephandstmark.org
SUMMARY:St Mark's Day
DESCRIPTION:
URL:https://stjosephandstmark.org/event/st-mark%ef%bf%bds-day/
END:VEVENT
BEGIN:VEVENT
DTSTART;TZID=Asia/Shanghai:20240424T000000
DTEND;TZID=Asia/Shanghai:20240424T235900
DTSTAMP:20260425T202127
CREATED:20240308T041512Z
LAST-MODIFIED:20240308T050903Z
UID:10000435-1713916800-1714003140@stjosephandstmark.org
SUMMARY:St Mark's Feast Day Mass at 2.25pm
DESCRIPTION:
URL:https://stjosephandstmark.org/event/st-marks-feast-day-mass-at-2-25pm/
END:VEVENT
BEGIN:VEVENT
DTSTART;TZID=Asia/Shanghai:20240421T000000
DTEND;TZID=Asia/Shanghai:20240421T235900
DTSTAMP:20260425T202127
CREATED:20240308T041511Z
LAST-MODIFIED:20240308T045652Z
UID:10000434-1713657600-1713743940@stjosephandstmark.org
SUMMARY:St Joseph's School Confirmation Commitment Mass at 11am
DESCRIPTION:
URL:https://stjosephandstmark.org/event/st-josephs-school-confirmation-commitment-mass-at-11am/
END:VEVENT
BEGIN:VEVENT
DTSTART;TZID=Asia/Shanghai:20240418T000000
DTEND;TZID=Asia/Shanghai:20240418T235900
DTSTAMP:20260425T202127
CREATED:20240308T041511Z
LAST-MODIFIED:20240308T050636Z
UID:10000433-1713398400-1713484740@stjosephandstmark.org
SUMMARY:St Joseph's School Confirmation parents/students' information night at 6.30pm
DESCRIPTION:
URL:https://stjosephandstmark.org/event/st-josephs-school-confirmation-parents-students-information-night-at-6-30pm/
END:VEVENT
BEGIN:VEVENT
DTSTART;TZID=Asia/Shanghai:20240417T000000
DTEND;TZID=Asia/Shanghai:20240417T235900
DTSTAMP:20260425T202127
CREATED:20240308T041510Z
LAST-MODIFIED:20240308T050620Z
UID:10000432-1713312000-1713398340@stjosephandstmark.org
SUMMARY:PPC Meeting 7.30pm
DESCRIPTION:
URL:https://stjosephandstmark.org/event/ppc-meeting-7-30pm-2/
END:VEVENT
BEGIN:VEVENT
DTSTART;TZID=UTC:20240331T080000
DTEND;TZID=UTC:20240331T170000
DTSTAMP:20260425T202127
CREATED:20231128T085718Z
LAST-MODIFIED:20231128T085718Z
UID:10000295-1711872000-1711904400@stjosephandstmark.org
SUMMARY:Easter Sunday
DESCRIPTION:
URL:https://stjosephandstmark.org/event/easter-sunday/
END:VEVENT
BEGIN:VEVENT
DTSTART;TZID=Asia/Shanghai:20240330T000000
DTEND;TZID=Asia/Shanghai:20240330T235900
DTSTAMP:20260425T202127
CREATED:20240308T041510Z
LAST-MODIFIED:20240308T050601Z
UID:10000431-1711756800-1711843140@stjosephandstmark.org
SUMMARY:Holy Saturday - Easter Vigil
DESCRIPTION:
URL:https://stjosephandstmark.org/event/holy-saturday-%ef%bf%bd-easter-vigil/
END:VEVENT
BEGIN:VEVENT
DTSTART;TZID=UTC:20240329T080000
DTEND;TZID=UTC:20240329T170000
DTSTAMP:20260425T202127
CREATED:20231128T085718Z
LAST-MODIFIED:20231128T085718Z
UID:10000294-1711699200-1711731600@stjosephandstmark.org
SUMMARY:Good Friday
DESCRIPTION:
URL:https://stjosephandstmark.org/event/good-friday/
END:VEVENT
BEGIN:VEVENT
DTSTART;TZID=Asia/Shanghai:20240328T000000
DTEND;TZID=Asia/Shanghai:20240328T235900
DTSTAMP:20260425T202127
CREATED:20240308T041510Z
LAST-MODIFIED:20240308T050528Z
UID:10000430-1711584000-1711670340@stjosephandstmark.org
SUMMARY:Holy Thursday
DESCRIPTION:
URL:https://stjosephandstmark.org/event/holy-thursday/
END:VEVENT
BEGIN:VEVENT
DTSTART;TZID=Asia/Shanghai:20240324T000000
DTEND;TZID=Asia/Shanghai:20240324T235900
DTSTAMP:20260425T202127
CREATED:20240308T041456Z
LAST-MODIFIED:20240308T050514Z
UID:10000429-1711238400-1711324740@stjosephandstmark.org
SUMMARY:Palm Sunday/begin of Holy Week
DESCRIPTION:
URL:https://stjosephandstmark.org/event/palm-sunday-begin-of-holy-week/
END:VEVENT
BEGIN:VEVENT
DTSTART;TZID=Asia/Shanghai:20240323T000000
DTEND;TZID=Asia/Shanghai:20240323T235900
DTSTAMP:20260425T202127
CREATED:20240308T041456Z
LAST-MODIFIED:20240308T050505Z
UID:10000428-1711152000-1711238340@stjosephandstmark.org
SUMMARY:St Joseph's working Bees
DESCRIPTION:
URL:https://stjosephandstmark.org/event/st-joseph%ef%bf%bds-working-bees/
END:VEVENT
BEGIN:VEVENT
DTSTART;TZID=Asia/Shanghai:20240321T000000
DTEND;TZID=Asia/Shanghai:20240321T235900
DTSTAMP:20260425T202127
CREATED:20240308T041455Z
LAST-MODIFIED:20240308T050454Z
UID:10000427-1710979200-1711065540@stjosephandstmark.org
SUMMARY:St Joseph's FC meeting 7.30pm
DESCRIPTION:
URL:https://stjosephandstmark.org/event/st-joseph%ef%bf%bds-fc-meeting-7-30pm/
END:VEVENT
BEGIN:VEVENT
DTSTART;TZID=Asia/Shanghai:20240320T000000
DTEND;TZID=Asia/Shanghai:20240320T235900
DTSTAMP:20260425T202127
CREATED:20240308T041455Z
LAST-MODIFIED:20240308T050449Z
UID:10000426-1710892800-1710979140@stjosephandstmark.org
SUMMARY:St Mark's School Reconciliation parent/child information night at 6pm
DESCRIPTION:
URL:https://stjosephandstmark.org/event/st-marks-school-reconciliation-parent-child-information-night-at-6pm/
END:VEVENT
BEGIN:VEVENT
DTSTART;TZID=Asia/Shanghai:20240319T000000
DTEND;TZID=Asia/Shanghai:20240319T235900
DTSTAMP:20260425T202127
CREATED:20240308T041455Z
LAST-MODIFIED:20240308T050437Z
UID:10000425-1710806400-1710892740@stjosephandstmark.org
SUMMARY:St Joseph's Feast Mass at 12pm
DESCRIPTION:
URL:https://stjosephandstmark.org/event/st-josephs-feast-mass-at-12pm/
END:VEVENT
END:VCALENDAR