BEGIN:VCALENDAR
VERSION:2.0
PRODID:-//Springvale Parish of St. Joseph’s Church, St. Mark’s Church and the Vietnamese Community - ECPv6.2.3//NONSGML v1.0//EN
CALSCALE:GREGORIAN
METHOD:PUBLISH
X-WR-CALNAME:Springvale Parish of St. Joseph’s Church, St. Mark’s Church and the Vietnamese Community
X-ORIGINAL-URL:https://stjosephandstmark.org
X-WR-CALDESC:Events for Springvale Parish of St. Joseph’s Church, St. Mark’s Church and the Vietnamese Community
REFRESH-INTERVAL;VALUE=DURATION:PT1H
X-Robots-Tag:noindex
X-PUBLISHED-TTL:PT1H
BEGIN:VTIMEZONE
TZID:Asia/Shanghai
BEGIN:STANDARD
TZOFFSETFROM:+0800
TZOFFSETTO:+0800
TZNAME:CST
DTSTART:20240101T000000
END:STANDARD
TZID:UTC
BEGIN:STANDARD
TZOFFSETFROM:+0000
TZOFFSETTO:+0000
TZNAME:UTC
DTSTART:20230101T000000
END:STANDARD
END:VTIMEZONE
BEGIN:VEVENT
DTSTART;TZID=Asia/Shanghai:20240207T000000
DTEND;TZID=Asia/Shanghai:20240207T235900
DTSTAMP:20260426T105540
CREATED:20240308T041451Z
LAST-MODIFIED:20240308T050135Z
UID:10000420-1707264000-1707350340@stjosephandstmark.org
SUMMARY:PPC Meeting 7.30pm
DESCRIPTION:
URL:https://stjosephandstmark.org/event/ppc-meeting-7-30pm/
END:VEVENT
BEGIN:VEVENT
DTSTART;TZID=UTC:20240129T080000
DTEND;TZID=UTC:20240129T170000
DTSTAMP:20260426T105540
CREATED:20231128T085702Z
LAST-MODIFIED:20231128T085702Z
UID:10000291-1706515200-1706547600@stjosephandstmark.org
SUMMARY:School resumes
DESCRIPTION:
URL:https://stjosephandstmark.org/event/school-resumes/
END:VEVENT
BEGIN:VEVENT
DTSTART;TZID=UTC:20240128T080000
DTEND;TZID=UTC:20240128T170000
DTSTAMP:20260426T105540
CREATED:20231128T085702Z
LAST-MODIFIED:20231128T085702Z
UID:10000290-1706428800-1706461200@stjosephandstmark.org
SUMMARY:4th Sunday in Ordinary Time
DESCRIPTION:
URL:https://stjosephandstmark.org/event/4th-sunday-in-ordinary-time/
END:VEVENT
BEGIN:VEVENT
DTSTART;TZID=UTC:20240126T080000
DTEND;TZID=UTC:20240126T170000
DTSTAMP:20260426T105540
CREATED:20231128T085702Z
LAST-MODIFIED:20231128T085702Z
UID:10000289-1706256000-1706288400@stjosephandstmark.org
SUMMARY:Australia Day Mass Times - TBA
DESCRIPTION:
URL:https://stjosephandstmark.org/event/australia-day-mass-times-tba/
END:VEVENT
BEGIN:VEVENT
DTSTART;TZID=UTC:20240121T080000
DTEND;TZID=UTC:20240121T170000
DTSTAMP:20260426T105540
CREATED:20231128T085647Z
LAST-MODIFIED:20231128T085647Z
UID:10000288-1705824000-1705856400@stjosephandstmark.org
SUMMARY:3rd Sunday in Oridinary Time
DESCRIPTION:
URL:https://stjosephandstmark.org/event/3rd-sunday-in-oridinary-time/
END:VEVENT
BEGIN:VEVENT
DTSTART;TZID=UTC:20240114T080000
DTEND;TZID=UTC:20240114T170000
DTSTAMP:20260426T105540
CREATED:20231128T085647Z
LAST-MODIFIED:20231128T085647Z
UID:10000287-1705219200-1705251600@stjosephandstmark.org
SUMMARY:2nd Sunday in Ordinary Time
DESCRIPTION:
URL:https://stjosephandstmark.org/event/2nd-sunday-in-ordinary-time/
END:VEVENT
BEGIN:VEVENT
DTSTART;TZID=UTC:20240107T080000
DTEND;TZID=UTC:20240107T170000
DTSTAMP:20260426T105540
CREATED:20231128T085646Z
LAST-MODIFIED:20231128T085646Z
UID:10000286-1704614400-1704646800@stjosephandstmark.org
SUMMARY:The Epiphany of the Lord
DESCRIPTION:
URL:https://stjosephandstmark.org/event/the-epiphany-of-the-lord/
END:VEVENT
BEGIN:VEVENT
DTSTART;TZID=UTC:20240106T080000
DTEND;TZID=UTC:20240106T170000
DTSTAMP:20260426T105540
CREATED:20231128T085646Z
LAST-MODIFIED:20231128T085646Z
UID:10000285-1704528000-1704560400@stjosephandstmark.org
SUMMARY:9.00-10.30am St. Mark's Church Cleaning
DESCRIPTION:
URL:https://stjosephandstmark.org/event/9-00-10-30am-st-marks-church-cleaning-3/
END:VEVENT
BEGIN:VEVENT
DTSTART;TZID=UTC:20240102T080000
DTEND;TZID=UTC:20240102T170000
DTSTAMP:20260426T105540
CREATED:20231128T085646Z
LAST-MODIFIED:20231128T085646Z
UID:10000284-1704182400-1704214800@stjosephandstmark.org
SUMMARY:Fr. Joseph on Leave until end of January
DESCRIPTION:
URL:https://stjosephandstmark.org/event/fr-joseph-on-leave-until-end-of-january/
END:VEVENT
BEGIN:VEVENT
DTSTART;TZID=UTC:20240101T080000
DTEND;TZID=UTC:20240101T170000
DTSTAMP:20260426T105540
CREATED:20231129T224955Z
LAST-MODIFIED:20231129T225016Z
UID:10000364-1704096000-1704128400@stjosephandstmark.org
SUMMARY:Feast of Mary The Holy Mother of God - 9.30am\, 11am Vietnamese Mass St. Joseph’s
DESCRIPTION:
URL:https://stjosephandstmark.org/event/feast-of-mary-the-holy-mother-of-god-9-30am-11am-vietnamese-mass-st-josephs/
END:VEVENT
BEGIN:VEVENT
DTSTART;TZID=UTC:20240101T080000
DTEND;TZID=UTC:20240101T170000
DTSTAMP:20260426T105540
CREATED:20231128T085632Z
LAST-MODIFIED:20231129T224657Z
UID:10000283-1704096000-1704128400@stjosephandstmark.org
SUMMARY:Feast of Mary The Holy Mother of God - 9.30am St. Mark’s
DESCRIPTION:
URL:https://stjosephandstmark.org/event/feast-of-mary-the-holy-mother-of-god-mass-times-tba/
END:VEVENT
BEGIN:VEVENT
DTSTART;TZID=UTC:20231231T080000
DTEND;TZID=UTC:20231231T170000
DTSTAMP:20260426T105540
CREATED:20231128T085632Z
LAST-MODIFIED:20231128T085632Z
UID:10000282-1704009600-1704042000@stjosephandstmark.org
SUMMARY:The Feast of the Holy Family of Jesus\, Mary & Joseph
DESCRIPTION:
URL:https://stjosephandstmark.org/event/the-feast-of-the-holy-family-of-jesus-mary-joseph/
END:VEVENT
BEGIN:VEVENT
DTSTART;TZID=UTC:20231225T080000
DTEND;TZID=UTC:20231225T170000
DTSTAMP:20260426T105540
CREATED:20231129T224209Z
LAST-MODIFIED:20231129T224225Z
UID:10000362-1703491200-1703523600@stjosephandstmark.org
SUMMARY:Christmas Day - 9.30am\, 11am\, 3pm Vietnamese Mass St. Joseph’s
DESCRIPTION:
URL:https://stjosephandstmark.org/event/christmas-day-9-30am-11am-3pm-vietnamese-mass-st-josephs/
END:VEVENT
BEGIN:VEVENT
DTSTART;TZID=UTC:20231225T080000
DTEND;TZID=UTC:20231225T170000
DTSTAMP:20260426T105540
CREATED:20231128T085632Z
LAST-MODIFIED:20231129T223842Z
UID:10000281-1703491200-1703523600@stjosephandstmark.org
SUMMARY:Christmas Day - 9.30am St. Mark's Mass
DESCRIPTION:
URL:https://stjosephandstmark.org/event/christmas-day9-30am-st-marks-mass9-30am-st-josephs-mass/
END:VEVENT
BEGIN:VEVENT
DTSTART;TZID=UTC:20231224T080000
DTEND;TZID=UTC:20231224T170000
DTSTAMP:20260426T105540
CREATED:20231129T213426Z
LAST-MODIFIED:20231129T222659Z
UID:10000358-1703404800-1703437200@stjosephandstmark.org
SUMMARY:Christmas Eve Mass - 6pm Family Mass\, 7.30am Maltese\, 9.30pm Vietnamese Mass\, Midnight Mass St. Joseph’s
DESCRIPTION:
URL:https://stjosephandstmark.org/event/6pm-family-mass-midnight-mass-st-marks/
END:VEVENT
BEGIN:VEVENT
DTSTART;TZID=UTC:20231224T080000
DTEND;TZID=UTC:20231224T170000
DTSTAMP:20260426T105540
CREATED:20231128T085631Z
LAST-MODIFIED:20231128T085631Z
UID:10000279-1703404800-1703437200@stjosephandstmark.org
SUMMARY:4th Sunday of Advent
DESCRIPTION:
URL:https://stjosephandstmark.org/event/4th-sunday-of-advent/
END:VEVENT
BEGIN:VEVENT
DTSTART;TZID=UTC:20231224T080000
DTEND;TZID=UTC:20231224T170000
DTSTAMP:20260426T105540
CREATED:20231128T085631Z
LAST-MODIFIED:20231129T222416Z
UID:10000280-1703404800-1703437200@stjosephandstmark.org
SUMMARY:Christmas Eve Mass - 6pm Family Mass\, Midnight Mass St. Mark’s
DESCRIPTION:
URL:https://stjosephandstmark.org/event/christmas-eve-mass-times-tba/
END:VEVENT
BEGIN:VEVENT
DTSTART;TZID=UTC:20231217T080000
DTEND;TZID=UTC:20231217T170000
DTSTAMP:20260426T105540
CREATED:20231128T085617Z
LAST-MODIFIED:20231128T085617Z
UID:10000278-1702800000-1702832400@stjosephandstmark.org
SUMMARY:3rd Sunday of Advent
DESCRIPTION:
URL:https://stjosephandstmark.org/event/3rd-sunday-of-advent/
END:VEVENT
BEGIN:VEVENT
DTSTART;TZID=UTC:20231216T080000
DTEND;TZID=UTC:20231216T170000
DTSTAMP:20260426T105540
CREATED:20231128T085617Z
LAST-MODIFIED:20231128T085617Z
UID:10000277-1702713600-1702746000@stjosephandstmark.org
SUMMARY:9.00-12pm  Working Bee Church & Gardens Cleaning St. Mark's
DESCRIPTION:
URL:https://stjosephandstmark.org/event/9-00-12pm-working-bee-church-gardens-cleaning-st-marks/
END:VEVENT
BEGIN:VEVENT
DTSTART;TZID=UTC:20231215T080000
DTEND;TZID=UTC:20231215T170000
DTSTAMP:20260426T105540
CREATED:20231128T085616Z
LAST-MODIFIED:20231128T085616Z
UID:10000274-1702627200-1702659600@stjosephandstmark.org
SUMMARY:9.00am Mass St. Mark's End of Year Mass
DESCRIPTION:
URL:https://stjosephandstmark.org/event/9-00am-mass-st-marks-end-of-year-mass/
END:VEVENT
BEGIN:VEVENT
DTSTART;TZID=UTC:20231215T080000
DTEND;TZID=UTC:20231215T170000
DTSTAMP:20260426T105540
CREATED:20231128T085616Z
LAST-MODIFIED:20231128T085616Z
UID:10000275-1702627200-1702659600@stjosephandstmark.org
SUMMARY:9.00am Mass St. Joseph's End of Year Mass
DESCRIPTION:
URL:https://stjosephandstmark.org/event/9-00am-mass-st-josephs-end-of-year-mass/
END:VEVENT
BEGIN:VEVENT
DTSTART;TZID=UTC:20231215T080000
DTEND;TZID=UTC:20231215T170000
DTSTAMP:20260426T105540
CREATED:20231128T085616Z
LAST-MODIFIED:20231129T030343Z
UID:10000276-1702627200-1702659600@stjosephandstmark.org
SUMMARY:7.30pm Parish Christmas Carols
DESCRIPTION:
URL:https://stjosephandstmark.org/event/parish-carols-tba/
END:VEVENT
BEGIN:VEVENT
DTSTART;TZID=UTC:20231214T080000
DTEND;TZID=UTC:20231214T170000
DTSTAMP:20260426T105540
CREATED:20231128T085602Z
LAST-MODIFIED:20231128T085602Z
UID:10000273-1702540800-1702573200@stjosephandstmark.org
SUMMARY:St. Mark's Grade 6 Graduation
DESCRIPTION:
URL:https://stjosephandstmark.org/event/st-marks-grade-6-graduation/
END:VEVENT
BEGIN:VEVENT
DTSTART;TZID=UTC:20231213T080000
DTEND;TZID=UTC:20231213T170000
DTSTAMP:20260426T105540
CREATED:20231128T085602Z
LAST-MODIFIED:20231128T085602Z
UID:10000272-1702454400-1702486800@stjosephandstmark.org
SUMMARY:5.00-9.00pm Hall booked for a school event
DESCRIPTION:
URL:https://stjosephandstmark.org/event/5-00-9-00pm-hall-booked-for-a-school-event/
END:VEVENT
BEGIN:VEVENT
DTSTART;TZID=UTC:20231210T080000
DTEND;TZID=UTC:20231210T170000
DTSTAMP:20260426T105540
CREATED:20231128T085602Z
LAST-MODIFIED:20231128T085602Z
UID:10000271-1702195200-1702227600@stjosephandstmark.org
SUMMARY:2nd Sunday of Advent
DESCRIPTION:
URL:https://stjosephandstmark.org/event/2nd-sunday-of-advent/
END:VEVENT
BEGIN:VEVENT
DTSTART;TZID=UTC:20231208T080000
DTEND;TZID=UTC:20231208T170000
DTSTAMP:20260426T105540
CREATED:20231128T085602Z
LAST-MODIFIED:20231128T085602Z
UID:10000270-1702022400-1702054800@stjosephandstmark.org
SUMMARY:5.00-9.30pm Hall booked for a school event
DESCRIPTION:
URL:https://stjosephandstmark.org/event/5-00-9-30pm-hall-booked-for-a-school-event/
END:VEVENT
BEGIN:VEVENT
DTSTART;TZID=UTC:20231208T080000
DTEND;TZID=UTC:20231208T170000
DTSTAMP:20260426T105540
CREATED:20231128T085601Z
LAST-MODIFIED:20231129T212953Z
UID:10000269-1702022400-1702054800@stjosephandstmark.org
SUMMARY:Feast of the Immaculate Conception of the Blessed Virgin Mary - 9.30am\, 11am Vietnamese Mass\, 7pm St. Joseph’s
DESCRIPTION:
URL:https://stjosephandstmark.org/event/feast-of-the-immaculate-conception-of-the-blessed-virgin-mary-mass-tba/
END:VEVENT
BEGIN:VEVENT
DTSTART;TZID=UTC:20231207T080000
DTEND;TZID=UTC:20231207T170000
DTSTAMP:20260426T105540
CREATED:20231128T085547Z
LAST-MODIFIED:20231128T085547Z
UID:10000268-1701936000-1701968400@stjosephandstmark.org
SUMMARY:Advent Reconciliation
DESCRIPTION:
URL:https://stjosephandstmark.org/event/advent-reconciliation/
END:VEVENT
BEGIN:VEVENT
DTSTART;TZID=UTC:20231203T080000
DTEND;TZID=UTC:20231203T170000
DTSTAMP:20260426T105540
CREATED:20231128T085547Z
LAST-MODIFIED:20231128T085547Z
UID:10000267-1701590400-1701622800@stjosephandstmark.org
SUMMARY:1st Sunday of Advent
DESCRIPTION:
URL:https://stjosephandstmark.org/event/1st-sunday-of-advent/
END:VEVENT
BEGIN:VEVENT
DTSTART;TZID=UTC:20231202T080000
DTEND;TZID=UTC:20231202T170000
DTSTAMP:20260426T105540
CREATED:20231128T085547Z
LAST-MODIFIED:20231128T085547Z
UID:10000266-1701504000-1701536400@stjosephandstmark.org
SUMMARY:9.00-10.30am St. Mark's Church Cleaning
DESCRIPTION:
URL:https://stjosephandstmark.org/event/9-00-10-30am-st-marks-church-cleaning-2/
END:VEVENT
END:VCALENDAR