BEGIN:VCALENDAR
VERSION:2.0
PRODID:-//Springvale Parish of St. Joseph’s Church, St. Mark’s Church and the Vietnamese Community - ECPv6.2.3//NONSGML v1.0//EN
CALSCALE:GREGORIAN
METHOD:PUBLISH
X-WR-CALNAME:Springvale Parish of St. Joseph’s Church, St. Mark’s Church and the Vietnamese Community
X-ORIGINAL-URL:https://stjosephandstmark.org
X-WR-CALDESC:Events for Springvale Parish of St. Joseph’s Church, St. Mark’s Church and the Vietnamese Community
REFRESH-INTERVAL;VALUE=DURATION:PT1H
X-Robots-Tag:noindex
X-PUBLISHED-TTL:PT1H
BEGIN:VTIMEZONE
TZID:Asia/Shanghai
BEGIN:STANDARD
TZOFFSETFROM:+0800
TZOFFSETTO:+0800
TZNAME:CST
DTSTART:20240101T000000
END:STANDARD
END:VTIMEZONE
BEGIN:VEVENT
DTSTART;TZID=Asia/Shanghai:20250419T080000
DTEND;TZID=Asia/Shanghai:20250419T170000
DTSTAMP:20260425T004621
CREATED:20250409T050009Z
LAST-MODIFIED:20250409T051435Z
UID:10000592-1745049600-1745082000@stjosephandstmark.org
SUMMARY:Holy Saturday – St Mark's Easter Vigil 7pm
DESCRIPTION:
URL:https://stjosephandstmark.org/event/holy-saturday-st-marks-easter-vigil-7pm/
END:VEVENT
BEGIN:VEVENT
DTSTART;TZID=Asia/Shanghai:20250418T080000
DTEND;TZID=Asia/Shanghai:20250418T170000
DTSTAMP:20260425T004621
CREATED:20250409T050008Z
LAST-MODIFIED:20250409T050244Z
UID:10000589-1744963200-1744995600@stjosephandstmark.org
SUMMARY:Good Friday\, St Joseph's 9.30am Station of the Cross (English)\, 11am (Viet)\, 3pm The Passion (English) and 5.30pm (Viet)
DESCRIPTION:
URL:https://stjosephandstmark.org/event/good-friday-st-josephs-9-30am-station-of-the-cross-english-11am-viet-3pm-the-passion-english-and-5-30pm-viet/
END:VEVENT
BEGIN:VEVENT
DTSTART;TZID=Asia/Shanghai:20250418T080000
DTEND;TZID=Asia/Shanghai:20250418T170000
DTSTAMP:20260425T004621
CREATED:20250409T050008Z
LAST-MODIFIED:20250409T050239Z
UID:10000590-1744963200-1744995600@stjosephandstmark.org
SUMMARY:Good Friday\, St Mark's 11am Station of the Cross\, 3pm The Passion
DESCRIPTION:
URL:https://stjosephandstmark.org/event/good-friday-st-marks-11am-station-of-the-cross-3pm-the-passion/
END:VEVENT
BEGIN:VEVENT
DTSTART;TZID=Asia/Shanghai:20250417T190000
DTEND;TZID=Asia/Shanghai:20250417T213000
DTSTAMP:20260425T004621
CREATED:20250409T050008Z
LAST-MODIFIED:20250409T050231Z
UID:10000588-1744916400-1744925400@stjosephandstmark.org
SUMMARY:Holy Thursday -  St Mark's Mass at 7pm followed by Adoration until 9.30pm
DESCRIPTION:
URL:https://stjosephandstmark.org/event/holy-thursday-st-marks-mass-at-7pm-followed-by-adoration-until-9-30pm/
END:VEVENT
BEGIN:VEVENT
DTSTART;TZID=Asia/Shanghai:20250417T080000
DTEND;TZID=Asia/Shanghai:20250417T170000
DTSTAMP:20260425T004621
CREATED:20250409T050006Z
LAST-MODIFIED:20250409T050006Z
UID:10000587-1744876800-1744909200@stjosephandstmark.org
SUMMARY:Holy Thursday - St Joseph's Mass at 6pm (Viet) and 8pm followed by Adoration until Midnight
DESCRIPTION:
URL:https://stjosephandstmark.org/event/holy-thursday-st-josephs-mass-at-6pm-viet-and-8pm-followed-by-adoration-until-midnight/
END:VEVENT
BEGIN:VEVENT
DTSTART;TZID=Asia/Shanghai:20250413T080000
DTEND;TZID=Asia/Shanghai:20250413T170000
DTSTAMP:20260425T004621
CREATED:20250409T050006Z
LAST-MODIFIED:20250409T050006Z
UID:10000586-1744531200-1744563600@stjosephandstmark.org
SUMMARY:Palm Sunday/begin of Holy Week
DESCRIPTION:
URL:https://stjosephandstmark.org/event/palm-sunday-begin-of-holy-week-2/
END:VEVENT
BEGIN:VEVENT
DTSTART;TZID=Asia/Shanghai:20250412T080000
DTEND;TZID=Asia/Shanghai:20250412T170000
DTSTAMP:20260425T004621
CREATED:20250409T050006Z
LAST-MODIFIED:20250409T050006Z
UID:10000585-1744444800-1744477200@stjosephandstmark.org
SUMMARY:St Joseph’s working Bees
DESCRIPTION:
URL:https://stjosephandstmark.org/event/st-josephs-working-bees/
END:VEVENT
BEGIN:VEVENT
DTSTART;TZID=Asia/Shanghai:20250409T080000
DTEND;TZID=Asia/Shanghai:20250409T170000
DTSTAMP:20260425T004621
CREATED:20250409T050005Z
LAST-MODIFIED:20250409T050005Z
UID:10000584-1744185600-1744218000@stjosephandstmark.org
SUMMARY:PPC Meeting 7.30pm
DESCRIPTION:
URL:https://stjosephandstmark.org/event/ppc-meeting-7-30pm-8/
END:VEVENT
BEGIN:VEVENT
DTSTART;TZID=Asia/Shanghai:20250403T080000
DTEND;TZID=Asia/Shanghai:20250403T170000
DTSTAMP:20260425T004621
CREATED:20250409T050005Z
LAST-MODIFIED:20250409T050431Z
UID:10000583-1743667200-1743699600@stjosephandstmark.org
SUMMARY:Parish Lent 2nd Rite Reconciliation 7pm - Vietnamese
DESCRIPTION:
URL:https://stjosephandstmark.org/event/parish-lent-2nd-rite-reconciliation-7pm-vietnamese/
END:VEVENT
BEGIN:VEVENT
DTSTART;TZID=Asia/Shanghai:20250327T080000
DTEND;TZID=Asia/Shanghai:20250327T170000
DTSTAMP:20260425T004621
CREATED:20250409T032327Z
LAST-MODIFIED:20250409T044204Z
UID:10000572-1743062400-1743094800@stjosephandstmark.org
SUMMARY:Parish Lent 2nd Rite Reconciliation 7pm
DESCRIPTION:
URL:https://stjosephandstmark.org/event/parish-lent-2nd-rite-reconciliation-7pm-2/
END:VEVENT
BEGIN:VEVENT
DTSTART;TZID=Asia/Shanghai:20250322T080000
DTEND;TZID=Asia/Shanghai:20250322T170000
DTSTAMP:20260425T004621
CREATED:20250409T032326Z
LAST-MODIFIED:20250409T044155Z
UID:10000571-1742630400-1742662800@stjosephandstmark.org
SUMMARY:St Joseph's Feast Mass at 11am
DESCRIPTION:
URL:https://stjosephandstmark.org/event/st-josephs-feast-mass-at-11am/
END:VEVENT
BEGIN:VEVENT
DTSTART;TZID=Asia/Shanghai:20250319T080000
DTEND;TZID=Asia/Shanghai:20250319T170000
DTSTAMP:20260425T004621
CREATED:20250409T032326Z
LAST-MODIFIED:20250409T044136Z
UID:10000570-1742371200-1742403600@stjosephandstmark.org
SUMMARY:St Joseph’s Day
DESCRIPTION:
URL:https://stjosephandstmark.org/event/st-josephs-day/
END:VEVENT
BEGIN:VEVENT
DTSTART;TZID=Asia/Shanghai:20250305T120000
DTEND;TZID=Asia/Shanghai:20250305T170000
DTSTAMP:20260425T004621
CREATED:20250409T032324Z
LAST-MODIFIED:20250409T045435Z
UID:10000569-1741176000-1741194000@stjosephandstmark.org
SUMMARY:Ash Wednesday - St Joseph's School Mass at 12pm
DESCRIPTION:
URL:https://stjosephandstmark.org/event/ash-wednesday-st-josephs-school-mass-at-12pm-and-st-marks-school-mass-at-9am/
END:VEVENT
BEGIN:VEVENT
DTSTART;TZID=Asia/Shanghai:20250305T090000
DTEND;TZID=Asia/Shanghai:20250305T233000
DTSTAMP:20260425T004621
CREATED:20250409T044932Z
LAST-MODIFIED:20250409T045521Z
UID:10000581-1741165200-1741217400@stjosephandstmark.org
SUMMARY:Ash Wednesday - St Mark's School Mass at 9am
DESCRIPTION:
URL:https://stjosephandstmark.org/event/ash-wednesday-st-marks-school-mass-at-9am/
END:VEVENT
BEGIN:VEVENT
DTSTART;TZID=Asia/Shanghai:20250210T080000
DTEND;TZID=Asia/Shanghai:20250210T170000
DTSTAMP:20260425T004621
CREATED:20250409T032324Z
LAST-MODIFIED:20250409T032324Z
UID:10000568-1739174400-1739206800@stjosephandstmark.org
SUMMARY:Fr. John on Leave until Feb 26
DESCRIPTION:
URL:https://stjosephandstmark.org/event/fr-john-on-leave-until-feb-26/
END:VEVENT
BEGIN:VEVENT
DTSTART;TZID=Asia/Shanghai:20250207T080000
DTEND;TZID=Asia/Shanghai:20250207T170000
DTSTAMP:20260425T004621
CREATED:20250409T032324Z
LAST-MODIFIED:20250409T032324Z
UID:10000567-1738915200-1738947600@stjosephandstmark.org
SUMMARY:St Mark's School Beginning of the Year Mass at 2:20pm
DESCRIPTION:
URL:https://stjosephandstmark.org/event/st-marks-school-beginning-of-the-year-mass-at-220pm/
END:VEVENT
BEGIN:VEVENT
DTSTART;TZID=Asia/Shanghai:20250206T080000
DTEND;TZID=Asia/Shanghai:20250206T170000
DTSTAMP:20260425T004621
CREATED:20250409T032324Z
LAST-MODIFIED:20250409T032324Z
UID:10000566-1738828800-1738861200@stjosephandstmark.org
SUMMARY:St Joseph's School Beginning of the Year Mass at 12pm
DESCRIPTION:
URL:https://stjosephandstmark.org/event/st-josephs-school-beginning-of-the-year-mass-at-12pm-2/
END:VEVENT
BEGIN:VEVENT
DTSTART;TZID=Asia/Shanghai:20250205T080000
DTEND;TZID=Asia/Shanghai:20250205T170000
DTSTAMP:20260425T004621
CREATED:20250409T032323Z
LAST-MODIFIED:20250409T032323Z
UID:10000565-1738742400-1738774800@stjosephandstmark.org
SUMMARY:PPC Meeting 7.30pm
DESCRIPTION:
URL:https://stjosephandstmark.org/event/ppc-meeting-7-30pm-7/
END:VEVENT
BEGIN:VEVENT
DTSTART;TZID=Asia/Shanghai:20250129T000000
DTEND;TZID=Asia/Shanghai:20250129T235900
DTSTAMP:20260425T004621
CREATED:20250407T055404Z
LAST-MODIFIED:20250407T102358Z
UID:10000554-1738108800-1738195140@stjosephandstmark.org
SUMMARY:Vietnamese Lunar New Year 2024 Mass at 7pm
DESCRIPTION:
URL:https://stjosephandstmark.org/event/vietnamese-lunar-new-year-2024-mass-at-7pm/
END:VEVENT
BEGIN:VEVENT
DTSTART;TZID=Asia/Shanghai:20250126T000000
DTEND;TZID=Asia/Shanghai:20250126T235900
DTSTAMP:20260425T004621
CREATED:20250407T055404Z
LAST-MODIFIED:20250407T102452Z
UID:10000553-1737849600-1737935940@stjosephandstmark.org
SUMMARY:3rd Sunday in Ordinary Time
DESCRIPTION:
URL:https://stjosephandstmark.org/event/3rd-sunday-in-ordinary-time/
END:VEVENT
BEGIN:VEVENT
DTSTART;TZID=Asia/Shanghai:20250119T080000
DTEND;TZID=Asia/Shanghai:20250119T170000
DTSTAMP:20260425T004621
CREATED:20250407T055404Z
LAST-MODIFIED:20250407T102152Z
UID:10000552-1737273600-1737306000@stjosephandstmark.org
SUMMARY:2nd Sunday in Oridinary Time
DESCRIPTION:
URL:https://stjosephandstmark.org/event/2nd-sunday-in-oridinary-time/
END:VEVENT
BEGIN:VEVENT
DTSTART;TZID=Asia/Shanghai:20250112T000000
DTEND;TZID=Asia/Shanghai:20250112T235900
DTSTAMP:20260425T004621
CREATED:20250407T055403Z
LAST-MODIFIED:20250409T031412Z
UID:10000551-1736640000-1736726340@stjosephandstmark.org
SUMMARY:THE BAPTISM OF THE LORD
DESCRIPTION:
URL:https://stjosephandstmark.org/event/the-baptism-of-the-lord/
END:VEVENT
BEGIN:VEVENT
DTSTART;TZID=Asia/Shanghai:20250105T000000
DTEND;TZID=Asia/Shanghai:20250105T235900
DTSTAMP:20260425T004621
CREATED:20250407T055402Z
LAST-MODIFIED:20250409T031317Z
UID:10000550-1736035200-1736121540@stjosephandstmark.org
SUMMARY:The Epiphany of the Lord
DESCRIPTION:
URL:https://stjosephandstmark.org/event/the-epiphany-of-the-lord-2/
END:VEVENT
BEGIN:VEVENT
DTSTART;TZID=Asia/Shanghai:20250102T000000
DTEND;TZID=Asia/Shanghai:20250102T235900
DTSTAMP:20260425T004621
CREATED:20250407T055402Z
LAST-MODIFIED:20250407T101913Z
UID:10000549-1735776000-1735862340@stjosephandstmark.org
SUMMARY:Fr. Joseph on Leave until end of January
DESCRIPTION:
URL:https://stjosephandstmark.org/event/fr-joseph-on-leave-until-end-of-january-2/
END:VEVENT
BEGIN:VEVENT
DTSTART;TZID=Asia/Shanghai:20250101T000000
DTEND;TZID=Asia/Shanghai:20250101T235900
DTSTAMP:20260425T004621
CREATED:20250407T055402Z
LAST-MODIFIED:20250407T101959Z
UID:10000547-1735689600-1735775940@stjosephandstmark.org
SUMMARY:Feast of Mary The Holy Mother of God – 9.30am St. Mark’s
DESCRIPTION:
URL:https://stjosephandstmark.org/event/feast-of-mary-the-holy-mother-of-god-9-30am-st-marks/
END:VEVENT
BEGIN:VEVENT
DTSTART;TZID=Asia/Shanghai:20250101T000000
DTEND;TZID=Asia/Shanghai:20250101T235900
DTSTAMP:20260425T004621
CREATED:20250407T055402Z
LAST-MODIFIED:20250407T101709Z
UID:10000548-1735689600-1735775940@stjosephandstmark.org
SUMMARY:Feast of Mary The Holy Mother of God – 9.30am\, 11am Vietnamese Mass St. Joseph’s
DESCRIPTION:
URL:https://stjosephandstmark.org/event/feast-of-mary-the-holy-mother-of-god-9-30am-11am-vietnamese-mass-st-josephs-2/
END:VEVENT
BEGIN:VEVENT
DTSTART;TZID=Asia/Shanghai:20241225T000000
DTEND;TZID=Asia/Shanghai:20241225T235900
DTSTAMP:20260425T004621
CREATED:20240308T041640Z
LAST-MODIFIED:20240308T045945Z
UID:10000473-1735084800-1735171140@stjosephandstmark.org
SUMMARY:Christmas Day
DESCRIPTION:
URL:https://stjosephandstmark.org/event/christmas-day/
END:VEVENT
BEGIN:VEVENT
DTSTART;TZID=Asia/Shanghai:20241224T000000
DTEND;TZID=Asia/Shanghai:20241224T235900
DTSTAMP:20260425T004621
CREATED:20240308T041640Z
LAST-MODIFIED:20240308T050006Z
UID:10000472-1734998400-1735084740@stjosephandstmark.org
SUMMARY:Christmas Eve
DESCRIPTION:
URL:https://stjosephandstmark.org/event/christmas-eve/
END:VEVENT
BEGIN:VEVENT
DTSTART;TZID=Asia/Shanghai:20241221T000000
DTEND;TZID=Asia/Shanghai:20241221T235900
DTSTAMP:20260425T004621
CREATED:20240308T041640Z
LAST-MODIFIED:20240308T050031Z
UID:10000471-1734739200-1734825540@stjosephandstmark.org
SUMMARY:St Joseph's working Bees
DESCRIPTION:
URL:https://stjosephandstmark.org/event/st-joseph%ef%bf%bds-working-bees-2/
END:VEVENT
BEGIN:VEVENT
DTSTART;TZID=Asia/Shanghai:20241219T000000
DTEND;TZID=Asia/Shanghai:20241219T235900
DTSTAMP:20260425T004621
CREATED:20240308T041639Z
LAST-MODIFIED:20240308T052017Z
UID:10000470-1734566400-1734652740@stjosephandstmark.org
SUMMARY:Parish Christmas Party
DESCRIPTION:
URL:https://stjosephandstmark.org/event/parish-christmas-party/
END:VEVENT
END:VCALENDAR