BEGIN:VCALENDAR
VERSION:2.0
PRODID:-//Springvale Parish of St. Joseph’s Church, St. Mark’s Church and the Vietnamese Community - ECPv6.2.3//NONSGML v1.0//EN
CALSCALE:GREGORIAN
METHOD:PUBLISH
X-WR-CALNAME:Springvale Parish of St. Joseph’s Church, St. Mark’s Church and the Vietnamese Community
X-ORIGINAL-URL:https://stjosephandstmark.org
X-WR-CALDESC:Events for Springvale Parish of St. Joseph’s Church, St. Mark’s Church and the Vietnamese Community
REFRESH-INTERVAL;VALUE=DURATION:PT1H
X-Robots-Tag:noindex
X-PUBLISHED-TTL:PT1H
BEGIN:VTIMEZONE
TZID:Asia/Shanghai
BEGIN:STANDARD
TZOFFSETFROM:+0800
TZOFFSETTO:+0800
TZNAME:CST
DTSTART:20240101T000000
END:STANDARD
END:VTIMEZONE
BEGIN:VEVENT
DTSTART;TZID=Asia/Shanghai:20250205T080000
DTEND;TZID=Asia/Shanghai:20250205T170000
DTSTAMP:20260425T185343
CREATED:20250409T032323Z
LAST-MODIFIED:20250409T032323Z
UID:10000565-1738742400-1738774800@stjosephandstmark.org
SUMMARY:PPC Meeting 7.30pm
DESCRIPTION:
URL:https://stjosephandstmark.org/event/ppc-meeting-7-30pm-7/
END:VEVENT
BEGIN:VEVENT
DTSTART;TZID=Asia/Shanghai:20250129T000000
DTEND;TZID=Asia/Shanghai:20250129T235900
DTSTAMP:20260425T185343
CREATED:20250407T055404Z
LAST-MODIFIED:20250407T102358Z
UID:10000554-1738108800-1738195140@stjosephandstmark.org
SUMMARY:Vietnamese Lunar New Year 2024 Mass at 7pm
DESCRIPTION:
URL:https://stjosephandstmark.org/event/vietnamese-lunar-new-year-2024-mass-at-7pm/
END:VEVENT
BEGIN:VEVENT
DTSTART;TZID=Asia/Shanghai:20250126T000000
DTEND;TZID=Asia/Shanghai:20250126T235900
DTSTAMP:20260425T185343
CREATED:20250407T055404Z
LAST-MODIFIED:20250407T102452Z
UID:10000553-1737849600-1737935940@stjosephandstmark.org
SUMMARY:3rd Sunday in Ordinary Time
DESCRIPTION:
URL:https://stjosephandstmark.org/event/3rd-sunday-in-ordinary-time/
END:VEVENT
BEGIN:VEVENT
DTSTART;TZID=Asia/Shanghai:20250119T080000
DTEND;TZID=Asia/Shanghai:20250119T170000
DTSTAMP:20260425T185343
CREATED:20250407T055404Z
LAST-MODIFIED:20250407T102152Z
UID:10000552-1737273600-1737306000@stjosephandstmark.org
SUMMARY:2nd Sunday in Oridinary Time
DESCRIPTION:
URL:https://stjosephandstmark.org/event/2nd-sunday-in-oridinary-time/
END:VEVENT
BEGIN:VEVENT
DTSTART;TZID=Asia/Shanghai:20250112T000000
DTEND;TZID=Asia/Shanghai:20250112T235900
DTSTAMP:20260425T185343
CREATED:20250407T055403Z
LAST-MODIFIED:20250409T031412Z
UID:10000551-1736640000-1736726340@stjosephandstmark.org
SUMMARY:THE BAPTISM OF THE LORD
DESCRIPTION:
URL:https://stjosephandstmark.org/event/the-baptism-of-the-lord/
END:VEVENT
BEGIN:VEVENT
DTSTART;TZID=Asia/Shanghai:20250105T000000
DTEND;TZID=Asia/Shanghai:20250105T235900
DTSTAMP:20260425T185343
CREATED:20250407T055402Z
LAST-MODIFIED:20250409T031317Z
UID:10000550-1736035200-1736121540@stjosephandstmark.org
SUMMARY:The Epiphany of the Lord
DESCRIPTION:
URL:https://stjosephandstmark.org/event/the-epiphany-of-the-lord-2/
END:VEVENT
BEGIN:VEVENT
DTSTART;TZID=Asia/Shanghai:20250102T000000
DTEND;TZID=Asia/Shanghai:20250102T235900
DTSTAMP:20260425T185343
CREATED:20250407T055402Z
LAST-MODIFIED:20250407T101913Z
UID:10000549-1735776000-1735862340@stjosephandstmark.org
SUMMARY:Fr. Joseph on Leave until end of January
DESCRIPTION:
URL:https://stjosephandstmark.org/event/fr-joseph-on-leave-until-end-of-january-2/
END:VEVENT
BEGIN:VEVENT
DTSTART;TZID=Asia/Shanghai:20250101T000000
DTEND;TZID=Asia/Shanghai:20250101T235900
DTSTAMP:20260425T185343
CREATED:20250407T055402Z
LAST-MODIFIED:20250407T101959Z
UID:10000547-1735689600-1735775940@stjosephandstmark.org
SUMMARY:Feast of Mary The Holy Mother of God – 9.30am St. Mark’s
DESCRIPTION:
URL:https://stjosephandstmark.org/event/feast-of-mary-the-holy-mother-of-god-9-30am-st-marks/
END:VEVENT
BEGIN:VEVENT
DTSTART;TZID=Asia/Shanghai:20250101T000000
DTEND;TZID=Asia/Shanghai:20250101T235900
DTSTAMP:20260425T185343
CREATED:20250407T055402Z
LAST-MODIFIED:20250407T101709Z
UID:10000548-1735689600-1735775940@stjosephandstmark.org
SUMMARY:Feast of Mary The Holy Mother of God – 9.30am\, 11am Vietnamese Mass St. Joseph’s
DESCRIPTION:
URL:https://stjosephandstmark.org/event/feast-of-mary-the-holy-mother-of-god-9-30am-11am-vietnamese-mass-st-josephs-2/
END:VEVENT
BEGIN:VEVENT
DTSTART;TZID=Asia/Shanghai:20241225T000000
DTEND;TZID=Asia/Shanghai:20241225T235900
DTSTAMP:20260425T185343
CREATED:20240308T041640Z
LAST-MODIFIED:20240308T045945Z
UID:10000473-1735084800-1735171140@stjosephandstmark.org
SUMMARY:Christmas Day
DESCRIPTION:
URL:https://stjosephandstmark.org/event/christmas-day/
END:VEVENT
BEGIN:VEVENT
DTSTART;TZID=Asia/Shanghai:20241224T000000
DTEND;TZID=Asia/Shanghai:20241224T235900
DTSTAMP:20260425T185343
CREATED:20240308T041640Z
LAST-MODIFIED:20240308T050006Z
UID:10000472-1734998400-1735084740@stjosephandstmark.org
SUMMARY:Christmas Eve
DESCRIPTION:
URL:https://stjosephandstmark.org/event/christmas-eve/
END:VEVENT
BEGIN:VEVENT
DTSTART;TZID=Asia/Shanghai:20241221T000000
DTEND;TZID=Asia/Shanghai:20241221T235900
DTSTAMP:20260425T185343
CREATED:20240308T041640Z
LAST-MODIFIED:20240308T050031Z
UID:10000471-1734739200-1734825540@stjosephandstmark.org
SUMMARY:St Joseph's working Bees
DESCRIPTION:
URL:https://stjosephandstmark.org/event/st-joseph%ef%bf%bds-working-bees-2/
END:VEVENT
BEGIN:VEVENT
DTSTART;TZID=Asia/Shanghai:20241219T000000
DTEND;TZID=Asia/Shanghai:20241219T235900
DTSTAMP:20260425T185343
CREATED:20240308T041639Z
LAST-MODIFIED:20240308T052017Z
UID:10000470-1734566400-1734652740@stjosephandstmark.org
SUMMARY:Parish Christmas Party
DESCRIPTION:
URL:https://stjosephandstmark.org/event/parish-christmas-party/
END:VEVENT
BEGIN:VEVENT
DTSTART;TZID=Asia/Shanghai:20241217T000000
DTEND;TZID=Asia/Shanghai:20241217T235900
DTSTAMP:20260425T185343
CREATED:20240308T041626Z
LAST-MODIFIED:20240308T051956Z
UID:10000469-1734393600-1734479940@stjosephandstmark.org
SUMMARY:St Joseph's Year 6 graduation at 6pm (Parish Hall booked for this day)
DESCRIPTION:
URL:https://stjosephandstmark.org/event/st-josephs-year-6-graduation-at-6pm-parish-hall-booked-for-this-day/
END:VEVENT
BEGIN:VEVENT
DTSTART;TZID=Asia/Shanghai:20241217T000000
DTEND;TZID=Asia/Shanghai:20241217T235900
DTSTAMP:20260425T185343
CREATED:20240308T041625Z
LAST-MODIFIED:20240308T051951Z
UID:10000468-1734393600-1734479940@stjosephandstmark.org
SUMMARY:St Joseph's End of School Mass at 12pm
DESCRIPTION:
URL:https://stjosephandstmark.org/event/st-josephs-end-of-school-mass-at-12pm/
END:VEVENT
BEGIN:VEVENT
DTSTART;TZID=Asia/Shanghai:20241213T000000
DTEND;TZID=Asia/Shanghai:20241213T235900
DTSTAMP:20260425T185343
CREATED:20240308T041625Z
LAST-MODIFIED:20240308T051937Z
UID:10000466-1734048000-1734134340@stjosephandstmark.org
SUMMARY:St Mark's End of School Mass at 9am
DESCRIPTION:
URL:https://stjosephandstmark.org/event/st-marks-end-of-school-mass-at-9am/
END:VEVENT
BEGIN:VEVENT
DTSTART;TZID=Asia/Shanghai:20241213T000000
DTEND;TZID=Asia/Shanghai:20241213T235900
DTSTAMP:20260425T185343
CREATED:20240308T041625Z
LAST-MODIFIED:20240308T051930Z
UID:10000467-1734048000-1734134340@stjosephandstmark.org
SUMMARY:Parish Christmas Carols 7.30pm
DESCRIPTION:
URL:https://stjosephandstmark.org/event/parish-christmas-carols-7-30pm/
END:VEVENT
BEGIN:VEVENT
DTSTART;TZID=Asia/Shanghai:20241212T000000
DTEND;TZID=Asia/Shanghai:20241212T235900
DTSTAMP:20260425T185343
CREATED:20240308T041625Z
LAST-MODIFIED:20240308T051917Z
UID:10000465-1733961600-1734047940@stjosephandstmark.org
SUMMARY:St Mark's Year 6 Graduation at 6pm
DESCRIPTION:
URL:https://stjosephandstmark.org/event/st-marks-year-6-graduation-at-6pm/
END:VEVENT
BEGIN:VEVENT
DTSTART;TZID=Asia/Shanghai:20241211T000000
DTEND;TZID=Asia/Shanghai:20241211T235900
DTSTAMP:20260425T185343
CREATED:20240308T041614Z
LAST-MODIFIED:20240308T051913Z
UID:10000464-1733875200-1733961540@stjosephandstmark.org
SUMMARY:2nd Rite of Reconciliation
DESCRIPTION:
URL:https://stjosephandstmark.org/event/2nd-rite-of-reconciliation/
END:VEVENT
BEGIN:VEVENT
DTSTART;TZID=Asia/Shanghai:20241209T000000
DTEND;TZID=Asia/Shanghai:20241209T235900
DTSTAMP:20260425T185343
CREATED:20240308T041613Z
LAST-MODIFIED:20240308T051858Z
UID:10000463-1733702400-1733788740@stjosephandstmark.org
SUMMARY:The Immaculate Conception of The Blessed Virgin Mary
DESCRIPTION:
URL:https://stjosephandstmark.org/event/the-immaculate-conception-of-the-blessed-virgin-mary/
END:VEVENT
BEGIN:VEVENT
DTSTART;TZID=Asia/Shanghai:20241201T000000
DTEND;TZID=Asia/Shanghai:20241201T235900
DTSTAMP:20260425T185343
CREATED:20240308T041613Z
LAST-MODIFIED:20240308T051853Z
UID:10000462-1733011200-1733097540@stjosephandstmark.org
SUMMARY:1st Sunday of Advent
DESCRIPTION:
URL:https://stjosephandstmark.org/event/1st-sunday-of-advent-2/
END:VEVENT
BEGIN:VEVENT
DTSTART;TZID=Asia/Shanghai:20241121T000000
DTEND;TZID=Asia/Shanghai:20241121T235900
DTSTAMP:20260425T185343
CREATED:20240308T041613Z
LAST-MODIFIED:20240308T051842Z
UID:10000461-1732147200-1732233540@stjosephandstmark.org
SUMMARY:St Joseph's FC meeting 7.30pm
DESCRIPTION:
URL:https://stjosephandstmark.org/event/st-joseph%ef%bf%bds-fc-meeting-7-30pm-3/
END:VEVENT
BEGIN:VEVENT
DTSTART;TZID=Asia/Shanghai:20241120T000000
DTEND;TZID=Asia/Shanghai:20241120T235900
DTSTAMP:20260425T185343
CREATED:20240308T041613Z
LAST-MODIFIED:20240308T051836Z
UID:10000460-1732060800-1732147140@stjosephandstmark.org
SUMMARY:PPC Meeting 7.30pm
DESCRIPTION:
URL:https://stjosephandstmark.org/event/ppc-meeting-7-30pm-6/
END:VEVENT
BEGIN:VEVENT
DTSTART;TZID=Asia/Shanghai:20241111T000000
DTEND;TZID=Asia/Shanghai:20241111T235900
DTSTAMP:20260425T185343
CREATED:20240308T041611Z
LAST-MODIFIED:20240308T051811Z
UID:10000459-1731283200-1731369540@stjosephandstmark.org
SUMMARY:Remembrance Day service at 10.55am
DESCRIPTION:
URL:https://stjosephandstmark.org/event/remembrance-day-service-at-10-55am/
END:VEVENT
BEGIN:VEVENT
DTSTART;TZID=Asia/Shanghai:20241102T000000
DTEND;TZID=Asia/Shanghai:20241102T235900
DTSTAMP:20260425T185343
CREATED:20240308T041610Z
LAST-MODIFIED:20240308T051806Z
UID:10000458-1730505600-1730591940@stjosephandstmark.org
SUMMARY:All Souls' Day
DESCRIPTION:
URL:https://stjosephandstmark.org/event/all-souls-day/
END:VEVENT
BEGIN:VEVENT
DTSTART;TZID=Asia/Shanghai:20241101T000000
DTEND;TZID=Asia/Shanghai:20241101T235900
DTSTAMP:20260425T185343
CREATED:20240308T041610Z
LAST-MODIFIED:20240308T051746Z
UID:10000457-1730419200-1730505540@stjosephandstmark.org
SUMMARY:All Saints' Day
DESCRIPTION:
URL:https://stjosephandstmark.org/event/all-saints-day/
END:VEVENT
BEGIN:VEVENT
DTSTART;TZID=Asia/Shanghai:20241027T000000
DTEND;TZID=Asia/Shanghai:20241027T235900
DTSTAMP:20260425T185343
CREATED:20240308T041610Z
LAST-MODIFIED:20240308T051741Z
UID:10000456-1729987200-1730073540@stjosephandstmark.org
SUMMARY:St Mark's School 1st Eucharist Mass at 9.30am
DESCRIPTION:
URL:https://stjosephandstmark.org/event/st-marks-school-1st-eucharist-mass-at-9-30am/
END:VEVENT
BEGIN:VEVENT
DTSTART;TZID=Asia/Shanghai:20241026T000000
DTEND;TZID=Asia/Shanghai:20241026T235900
DTSTAMP:20260425T185343
CREATED:20240308T041610Z
LAST-MODIFIED:20240308T041610Z
UID:10000455-1729900800-1729987140@stjosephandstmark.org
SUMMARY:St Mark's School 1st Eucharist Mass at 6pm
DESCRIPTION:
URL:https://stjosephandstmark.org/event/st-marks-school-1st-eucharist-mass-at-6pm/
END:VEVENT
BEGIN:VEVENT
DTSTART;TZID=Asia/Shanghai:20241025T000000
DTEND;TZID=Asia/Shanghai:20241025T235900
DTSTAMP:20260425T185343
CREATED:20240308T041555Z
LAST-MODIFIED:20240308T051726Z
UID:10000454-1729814400-1729900740@stjosephandstmark.org
SUMMARY:St Mark's School - St Francis Blessing of the animals at 9am
DESCRIPTION:
URL:https://stjosephandstmark.org/event/st-marks-school-st-francis-blessing-of-the-animals-at-9am/
END:VEVENT
BEGIN:VEVENT
DTSTART;TZID=Asia/Shanghai:20241024T000000
DTEND;TZID=Asia/Shanghai:20241024T235900
DTSTAMP:20260425T185343
CREATED:20240308T041555Z
LAST-MODIFIED:20240308T051537Z
UID:10000453-1729728000-1729814340@stjosephandstmark.org
SUMMARY:St Mark's School 1st Eucharist Candidates Confession at 11.40am
DESCRIPTION:
URL:https://stjosephandstmark.org/event/st-marks-school-1st-eucharist-candidates-confession-at-11-40am/
END:VEVENT
END:VCALENDAR