BEGIN:VCALENDAR
VERSION:2.0
PRODID:-//Springvale Parish of St. Joseph’s Church, St. Mark’s Church and the Vietnamese Community - ECPv6.2.3//NONSGML v1.0//EN
CALSCALE:GREGORIAN
METHOD:PUBLISH
X-ORIGINAL-URL:https://stjosephandstmark.org
X-WR-CALDESC:Events for Springvale Parish of St. Joseph’s Church, St. Mark’s Church and the Vietnamese Community
REFRESH-INTERVAL;VALUE=DURATION:PT1H
X-Robots-Tag:noindex
X-PUBLISHED-TTL:PT1H
BEGIN:VTIMEZONE
TZID:Asia/Shanghai
BEGIN:STANDARD
TZOFFSETFROM:+0800
TZOFFSETTO:+0800
TZNAME:CST
DTSTART:20250101T000000
END:STANDARD
END:VTIMEZONE
BEGIN:VEVENT
DTSTART;TZID=Asia/Shanghai:20251025T080000
DTEND;TZID=Asia/Shanghai:20251025T170000
DTSTAMP:20260424T093246
CREATED:20250409T053641Z
LAST-MODIFIED:20250409T053641Z
UID:10000645-1761379200-1761411600@stjosephandstmark.org
SUMMARY:Thánh lễ Rước Lễ Lần Đầu Trường St Mark 5 giờ chiều
DESCRIPTION:
URL:https://stjosephandstmark.org/event/thanh-le-ruoc-le-lan-dau-truong-st-mark-5-gio-chieu/
END:VEVENT
END:VCALENDAR