BEGIN:VCALENDAR
VERSION:2.0
PRODID:-//Springvale Parish of St. Joseph’s Church, St. Mark’s Church and the Vietnamese Community - ECPv6.2.3//NONSGML v1.0//EN
CALSCALE:GREGORIAN
METHOD:PUBLISH
X-WR-CALNAME:Springvale Parish of St. Joseph’s Church, St. Mark’s Church and the Vietnamese Community
X-ORIGINAL-URL:https://stjosephandstmark.org
X-WR-CALDESC:Events for Springvale Parish of St. Joseph’s Church, St. Mark’s Church and the Vietnamese Community
REFRESH-INTERVAL;VALUE=DURATION:PT1H
X-Robots-Tag:noindex
X-PUBLISHED-TTL:PT1H
BEGIN:VTIMEZONE
TZID:Asia/Shanghai
BEGIN:STANDARD
TZOFFSETFROM:+0800
TZOFFSETTO:+0800
TZNAME:CST
DTSTART:20250101T000000
END:STANDARD
END:VTIMEZONE
BEGIN:VEVENT
DTSTART;TZID=Asia/Shanghai:20251120T080000
DTEND;TZID=Asia/Shanghai:20251120T170000
DTSTAMP:20260424T075420
CREATED:20250409T055500Z
LAST-MODIFIED:20250409T055500Z
UID:10000661-1763625600-1763658000@stjosephandstmark.org
SUMMARY:Ban Tài Chánh St Joseph Họp  7 giờ 30 tối
DESCRIPTION:
URL:https://stjosephandstmark.org/event/ban-tai-chanh-st-joseph-hop-7-gio-30-toi-5/
END:VEVENT
END:VCALENDAR