BEGIN:VCALENDAR
VERSION:2.0
PRODID:-//Springvale Parish of St. Joseph’s Church, St. Mark’s Church and the Vietnamese Community - ECPv6.2.3//NONSGML v1.0//EN
CALSCALE:GREGORIAN
METHOD:PUBLISH
X-WR-CALNAME:Springvale Parish of St. Joseph’s Church, St. Mark’s Church and the Vietnamese Community
X-ORIGINAL-URL:https://stjosephandstmark.org
X-WR-CALDESC:Events for Springvale Parish of St. Joseph’s Church, St. Mark’s Church and the Vietnamese Community
REFRESH-INTERVAL;VALUE=DURATION:PT1H
X-Robots-Tag:noindex
X-PUBLISHED-TTL:PT1H
BEGIN:VTIMEZONE
TZID:Asia/Shanghai
BEGIN:STANDARD
TZOFFSETFROM:+0800
TZOFFSETTO:+0800
TZNAME:CST
DTSTART:20250101T000000
END:STANDARD
END:VTIMEZONE
BEGIN:VEVENT
DTSTART;TZID=Asia/Shanghai:20251220T080000
DTEND;TZID=Asia/Shanghai:20251220T170000
DTSTAMP:20260424T062356
CREATED:20250409T055617Z
LAST-MODIFIED:20250409T055617Z
UID:10000666-1766217600-1766250000@stjosephandstmark.org
SUMMARY:Tổng Vệ Sinh St Joseph
DESCRIPTION:
URL:https://stjosephandstmark.org/event/tong-ve-sinh-st-joseph-4/
END:VEVENT
END:VCALENDAR