BEGIN:VCALENDAR
VERSION:2.0
PRODID:-//Springvale Parish of St. Joseph’s Church, St. Mark’s Church and the Vietnamese Community - ECPv6.2.3//NONSGML v1.0//EN
CALSCALE:GREGORIAN
METHOD:PUBLISH
X-ORIGINAL-URL:https://stjosephandstmark.org
X-WR-CALDESC:Events for Springvale Parish of St. Joseph’s Church, St. Mark’s Church and the Vietnamese Community
REFRESH-INTERVAL;VALUE=DURATION:PT1H
X-Robots-Tag:noindex
X-PUBLISHED-TTL:PT1H
BEGIN:VTIMEZONE
TZID:Asia/Shanghai
BEGIN:STANDARD
TZOFFSETFROM:+0800
TZOFFSETTO:+0800
TZNAME:CST
DTSTART:20240101T000000
END:STANDARD
END:VTIMEZONE
BEGIN:VEVENT
DTSTART;TZID=Asia/Shanghai:20250207T080000
DTEND;TZID=Asia/Shanghai:20250207T170000
DTSTAMP:20260424T222058
CREATED:20250409T044444Z
LAST-MODIFIED:20250409T044444Z
UID:10000575-1738915200-1738947600@stjosephandstmark.org
SUMMARY:Thánh lễ đầu năm của Trường học St Mark lúc 2:20 giờ chiều
DESCRIPTION:
URL:https://stjosephandstmark.org/event/thanh-le-dau-nam-cua-truong-hoc-st-mark-luc-220-gio-chieu/
END:VEVENT
BEGIN:VEVENT
DTSTART;TZID=Asia/Shanghai:20250206T080000
DTEND;TZID=Asia/Shanghai:20250206T170000
DTSTAMP:20260424T222058
CREATED:20250409T044417Z
LAST-MODIFIED:20250409T044417Z
UID:10000574-1738828800-1738861200@stjosephandstmark.org
SUMMARY:Thánh lễ đầu năm của Trường học St Joseph lúc 12 giờ trưa
DESCRIPTION:
URL:https://stjosephandstmark.org/event/thanh-le-dau-nam-cua-truong-hoc-st-joseph-luc-12-gio-trua-2/
END:VEVENT
BEGIN:VEVENT
DTSTART;TZID=Asia/Shanghai:20250205T080000
DTEND;TZID=Asia/Shanghai:20250205T170000
DTSTAMP:20260424T222058
CREATED:20250409T044353Z
LAST-MODIFIED:20250409T044353Z
UID:10000573-1738742400-1738774800@stjosephandstmark.org
SUMMARY:Hội Đồng Mục Vụ Giáo Xứ Họp 7 giờ 30 tối
DESCRIPTION:
URL:https://stjosephandstmark.org/event/hoi-dong-muc-vu-giao-xu-hop-7-gio-30-toi-7/
END:VEVENT
BEGIN:VEVENT
DTSTART;TZID=Asia/Shanghai:20250129T000000
DTEND;TZID=Asia/Shanghai:20250129T235900
DTSTAMP:20260424T222058
CREATED:20250407T101150Z
LAST-MODIFIED:20250407T101342Z
UID:10000562-1738108800-1738195140@stjosephandstmark.org
SUMMARY:Thánh lễ Tết Nguyên Đán Việt Nam 2024 lúc 7g tối
DESCRIPTION:
URL:https://stjosephandstmark.org/event/thanh-le-tet-nguyen-dan-viet-nam-2024-luc-7g-toi/
END:VEVENT
BEGIN:VEVENT
DTSTART;TZID=Asia/Shanghai:20250126T000000
DTEND;TZID=Asia/Shanghai:20250126T235900
DTSTAMP:20260424T222058
CREATED:20250407T102509Z
LAST-MODIFIED:20250407T102537Z
UID:10000564-1737849600-1737935940@stjosephandstmark.org
SUMMARY:Chúa Nhật Thứ Ba Thường Niên
DESCRIPTION:
URL:https://stjosephandstmark.org/event/chua-nhat-thu-ba-thuong-nien-2/
END:VEVENT
BEGIN:VEVENT
DTSTART;TZID=Asia/Shanghai:20250119T080000
DTEND;TZID=Asia/Shanghai:20250119T170000
DTSTAMP:20260424T222058
CREATED:20250407T102252Z
LAST-MODIFIED:20250407T102252Z
UID:10000563-1737273600-1737306000@stjosephandstmark.org
SUMMARY:Chúa Nhật Thứ Hai Thường Niên
DESCRIPTION:
URL:https://stjosephandstmark.org/event/chua-nhat-thu-hai-thuong-nien-2/
END:VEVENT
BEGIN:VEVENT
DTSTART;TZID=Asia/Shanghai:20250112T000000
DTEND;TZID=Asia/Shanghai:20250112T235900
DTSTAMP:20260424T222058
CREATED:20250407T101042Z
LAST-MODIFIED:20250407T101042Z
UID:10000559-1736640000-1736726340@stjosephandstmark.org
SUMMARY:CHÚA NHẬT LỄ CHÚA GIÊ-SU CHỊU PHÉP RỬA
DESCRIPTION:
URL:https://stjosephandstmark.org/event/chua-nhat-le-chua-gie-su-chiu-phep-rua/
END:VEVENT
BEGIN:VEVENT
DTSTART;TZID=Asia/Shanghai:20250105T000000
DTEND;TZID=Asia/Shanghai:20250105T235900
DTSTAMP:20260424T222058
CREATED:20250407T101024Z
LAST-MODIFIED:20250407T101024Z
UID:10000558-1736035200-1736121540@stjosephandstmark.org
SUMMARY:Lễ Hiển Linh
DESCRIPTION:
URL:https://stjosephandstmark.org/event/le-hien-linh-2/
END:VEVENT
BEGIN:VEVENT
DTSTART;TZID=Asia/Shanghai:20250102T000000
DTEND;TZID=Asia/Shanghai:20250102T235900
DTSTAMP:20260424T222058
CREATED:20250407T100938Z
LAST-MODIFIED:20250407T100938Z
UID:10000557-1735776000-1735862340@stjosephandstmark.org
SUMMARY:Cha Xứ Trường nghỉ phép cho đến cuối tháng Giêng
DESCRIPTION:
URL:https://stjosephandstmark.org/event/cha-xu-truong-nghi-phep-cho-den-cuoi-thang-gieng-2/
END:VEVENT
BEGIN:VEVENT
DTSTART;TZID=Asia/Shanghai:20250101T000000
DTEND;TZID=Asia/Shanghai:20250101T235900
DTSTAMP:20260424T222058
CREATED:20250407T100854Z
LAST-MODIFIED:20250407T100854Z
UID:10000556-1735689600-1735775940@stjosephandstmark.org
SUMMARY:Lễ Đức Maria\, Mẹ của Thiên Chúa – 9:30 sáng Nhà Thờ St Mark
DESCRIPTION:
URL:https://stjosephandstmark.org/event/le-duc-maria-me-cua-thien-chua-930-sang-nha-tho-st-mark-2/
END:VEVENT
BEGIN:VEVENT
DTSTART;TZID=Asia/Shanghai:20250101T000000
DTEND;TZID=Asia/Shanghai:20250101T235900
DTSTAMP:20260424T222058
CREATED:20250407T100730Z
LAST-MODIFIED:20250407T100807Z
UID:10000555-1735689600-1735775940@stjosephandstmark.org
SUMMARY:Lễ Đức Maria\, Mẹ của Thiên Chúa – 9:30 sáng\, 11 giờ sáng Thánh lễ Việt Nam Nhà Thờ St Joseph
DESCRIPTION:
URL:https://stjosephandstmark.org/event/le-duc-maria-me-cua-thien-chua-930-sang-nha-tho-st-mark/
END:VEVENT
BEGIN:VEVENT
DTSTART;TZID=Asia/Shanghai:20241225T000000
DTEND;TZID=Asia/Shanghai:20241225T235900
DTSTAMP:20260424T222058
CREATED:20240308T043140Z
LAST-MODIFIED:20240308T045950Z
UID:10000474-1735084800-1735171140@stjosephandstmark.org
SUMMARY:Ngày Giáng sinh
DESCRIPTION:
URL:https://stjosephandstmark.org/event/ngay-giang-sinh/
END:VEVENT
BEGIN:VEVENT
DTSTART;TZID=Asia/Shanghai:20241224T000000
DTEND;TZID=Asia/Shanghai:20241224T235900
DTSTAMP:20260424T222058
CREATED:20240308T043206Z
LAST-MODIFIED:20240308T050010Z
UID:10000475-1734998400-1735084740@stjosephandstmark.org
SUMMARY:Vọng Giáng sinh
DESCRIPTION:
URL:https://stjosephandstmark.org/event/vong-giang-sinh/
END:VEVENT
BEGIN:VEVENT
DTSTART;TZID=Asia/Shanghai:20241221T000000
DTEND;TZID=Asia/Shanghai:20241221T235900
DTSTAMP:20260424T222058
CREATED:20240308T043225Z
LAST-MODIFIED:20240308T050038Z
UID:10000476-1734739200-1734825540@stjosephandstmark.org
SUMMARY:Tổng Vệ Sinh St Joseph
DESCRIPTION:
URL:https://stjosephandstmark.org/event/tong-ve-sinh-st-joseph/
END:VEVENT
BEGIN:VEVENT
DTSTART;TZID=Asia/Shanghai:20241219T000000
DTEND;TZID=Asia/Shanghai:20241219T235900
DTSTAMP:20260424T222058
CREATED:20240308T043246Z
LAST-MODIFIED:20240308T052005Z
UID:10000477-1734566400-1734652740@stjosephandstmark.org
SUMMARY:Tiệc Giáng Sinh Giáo Xứ
DESCRIPTION:
URL:https://stjosephandstmark.org/event/tiec-giang-sinh-giao-xu/
END:VEVENT
BEGIN:VEVENT
DTSTART;TZID=Asia/Shanghai:20241217T000000
DTEND;TZID=Asia/Shanghai:20241217T235900
DTSTAMP:20260424T222058
CREATED:20240308T043336Z
LAST-MODIFIED:20240308T051946Z
UID:10000479-1734393600-1734479940@stjosephandstmark.org
SUMMARY:Thánh lễ Bế giảng Trường St Joseph lúc 12 giờ trưa
DESCRIPTION:
URL:https://stjosephandstmark.org/event/thanh-le-be-giang-truong-st-joseph-luc-12-gio-trua/
END:VEVENT
BEGIN:VEVENT
DTSTART;TZID=Asia/Shanghai:20241217T000000
DTEND;TZID=Asia/Shanghai:20241217T235900
DTSTAMP:20260424T222058
CREATED:20240308T043310Z
LAST-MODIFIED:20240308T052001Z
UID:10000478-1734393600-1734479940@stjosephandstmark.org
SUMMARY:Lễ tốt nghiệp Lớp 6 của Trường St Joseph lúc 6 giờ chiều
DESCRIPTION:
URL:https://stjosephandstmark.org/event/le-tot-nghiep-lop-6-cua-truong-st-joseph-luc-6-gio-chieu/
END:VEVENT
BEGIN:VEVENT
DTSTART;TZID=Asia/Shanghai:20241213T000000
DTEND;TZID=Asia/Shanghai:20241213T235900
DTSTAMP:20260424T222058
CREATED:20240308T043458Z
LAST-MODIFIED:20240308T051926Z
UID:10000481-1734048000-1734134340@stjosephandstmark.org
SUMMARY:Thánh Ca Giáng Sinh 7 giờ 30 tối
DESCRIPTION:
URL:https://stjosephandstmark.org/event/thanh-ca-giang-sinh-7-gio-30-toi/
END:VEVENT
BEGIN:VEVENT
DTSTART;TZID=Asia/Shanghai:20241213T000000
DTEND;TZID=Asia/Shanghai:20241213T235900
DTSTAMP:20260424T222058
CREATED:20240308T043429Z
LAST-MODIFIED:20240308T051942Z
UID:10000480-1734048000-1734134340@stjosephandstmark.org
SUMMARY:Thánh lễ Bế giảng Trường St Mark lúc 9 giờ sáng
DESCRIPTION:
URL:https://stjosephandstmark.org/event/thanh-le-be-giang-truong-st-mark-luc-9-gio-sang/
END:VEVENT
BEGIN:VEVENT
DTSTART;TZID=Asia/Shanghai:20241212T000000
DTEND;TZID=Asia/Shanghai:20241212T235900
DTSTAMP:20260424T222058
CREATED:20240308T043520Z
LAST-MODIFIED:20240308T051921Z
UID:10000482-1733961600-1734047940@stjosephandstmark.org
SUMMARY:Lễ Tốt Nghiệp Lớp 6 của St Mark lúc 6 giờ chiều
DESCRIPTION:
URL:https://stjosephandstmark.org/event/le-tot-nghiep-lop-6-cua-st-mark-luc-6-gio-chieu/
END:VEVENT
BEGIN:VEVENT
DTSTART;TZID=Asia/Shanghai:20241211T000000
DTEND;TZID=Asia/Shanghai:20241211T235900
DTSTAMP:20260424T222058
CREATED:20240308T043537Z
LAST-MODIFIED:20240308T051910Z
UID:10000483-1733875200-1733961540@stjosephandstmark.org
SUMMARY:Nghi thức Hòa Giải Mùa Vọng lúc 7 giờ tối
DESCRIPTION:
URL:https://stjosephandstmark.org/event/nghi-thuc-hoa-giai-mua-vong-luc-7-gio-toi/
END:VEVENT
BEGIN:VEVENT
DTSTART;TZID=Asia/Shanghai:20241209T000000
DTEND;TZID=Asia/Shanghai:20241209T235900
DTSTAMP:20260424T222058
CREATED:20240308T043556Z
LAST-MODIFIED:20240308T051903Z
UID:10000484-1733702400-1733788740@stjosephandstmark.org
SUMMARY:Lễ Đức Mẹ Vô Nhiễm Nguyên Tội
DESCRIPTION:
URL:https://stjosephandstmark.org/event/le-duc-me-vo-nhiem-nguyen-toi/
END:VEVENT
BEGIN:VEVENT
DTSTART;TZID=Asia/Shanghai:20241201T000000
DTEND;TZID=Asia/Shanghai:20241201T235900
DTSTAMP:20260424T222058
CREATED:20240308T043612Z
LAST-MODIFIED:20240308T051849Z
UID:10000485-1733011200-1733097540@stjosephandstmark.org
SUMMARY:Chúa Nhật Thứ Nhất Mùa Vọng
DESCRIPTION:
URL:https://stjosephandstmark.org/event/chua-nhat-thu-nhat-mua-vong/
END:VEVENT
BEGIN:VEVENT
DTSTART;TZID=Asia/Shanghai:20241121T000000
DTEND;TZID=Asia/Shanghai:20241121T235900
DTSTAMP:20260424T222058
CREATED:20240308T043635Z
LAST-MODIFIED:20240308T051845Z
UID:10000486-1732147200-1732233540@stjosephandstmark.org
SUMMARY:Ban Tài Chánh St Joseph Họp  7 giờ 30 tối
DESCRIPTION:
URL:https://stjosephandstmark.org/event/ban-tai-chanh-st-joseph-hop-7-gio-30-toi/
END:VEVENT
BEGIN:VEVENT
DTSTART;TZID=Asia/Shanghai:20241120T000000
DTEND;TZID=Asia/Shanghai:20241120T235900
DTSTAMP:20260424T222058
CREATED:20240308T043728Z
LAST-MODIFIED:20240308T051832Z
UID:10000487-1732060800-1732147140@stjosephandstmark.org
SUMMARY:Hội Đồng Mục Vụ Giáo Xứ Họp 7 giờ 30 tối
DESCRIPTION:
URL:https://stjosephandstmark.org/event/hoi-dong-muc-vu-giao-xu-hop-7-gio-30-toi/
END:VEVENT
BEGIN:VEVENT
DTSTART;TZID=Asia/Shanghai:20241111T000000
DTEND;TZID=Asia/Shanghai:20241111T235900
DTSTAMP:20260424T222058
CREATED:20240308T043753Z
LAST-MODIFIED:20240308T051821Z
UID:10000488-1731283200-1731369540@stjosephandstmark.org
SUMMARY:Lễ tưởng niệm lúc 10:55 sáng
DESCRIPTION:
URL:https://stjosephandstmark.org/event/le-tuong-niem-luc-1055-sang/
END:VEVENT
BEGIN:VEVENT
DTSTART;TZID=Asia/Shanghai:20241102T000000
DTEND;TZID=Asia/Shanghai:20241102T235900
DTSTAMP:20260424T222058
CREATED:20240308T043809Z
LAST-MODIFIED:20240308T051802Z
UID:10000489-1730505600-1730591940@stjosephandstmark.org
SUMMARY:Thánh Lễ Cầu Hồn
DESCRIPTION:
URL:https://stjosephandstmark.org/event/thanh-le-cau-hon/
END:VEVENT
BEGIN:VEVENT
DTSTART;TZID=Asia/Shanghai:20241101T000000
DTEND;TZID=Asia/Shanghai:20241101T235900
DTSTAMP:20260424T222058
CREATED:20240308T043822Z
LAST-MODIFIED:20240308T051756Z
UID:10000490-1730419200-1730505540@stjosephandstmark.org
SUMMARY:Thánh Lễ Các Thánh
DESCRIPTION:
URL:https://stjosephandstmark.org/event/thanh-le-cac-thanh/
END:VEVENT
BEGIN:VEVENT
DTSTART;TZID=Asia/Shanghai:20241027T000000
DTEND;TZID=Asia/Shanghai:20241027T235900
DTSTAMP:20260424T222058
CREATED:20240308T043834Z
LAST-MODIFIED:20240308T051735Z
UID:10000491-1729987200-1730073540@stjosephandstmark.org
SUMMARY:Thánh lễ Rước Lễ Lần Đầu Trường St Mark 9:30 sáng
DESCRIPTION:
URL:https://stjosephandstmark.org/event/thanh-le-ruoc-le-lan-dau-truong-st-mark-930-sang/
END:VEVENT
BEGIN:VEVENT
DTSTART;TZID=Asia/Shanghai:20241026T000000
DTEND;TZID=Asia/Shanghai:20241026T235900
DTSTAMP:20260424T222058
CREATED:20240308T043853Z
LAST-MODIFIED:20240308T051730Z
UID:10000492-1729900800-1729987140@stjosephandstmark.org
SUMMARY:Thánh lễ Rước Lễ Lần Đầu Trường St Mark 6 giờ chiều
DESCRIPTION:
URL:https://stjosephandstmark.org/event/thanh-le-ruoc-le-lan-dau-truong-st-mark-6-gio-chieu/
END:VEVENT
END:VCALENDAR