BEGIN:VCALENDAR
VERSION:2.0
PRODID:-//Springvale Parish of St. Joseph’s Church, St. Mark’s Church and the Vietnamese Community - ECPv6.2.3//NONSGML v1.0//EN
CALSCALE:GREGORIAN
METHOD:PUBLISH
X-ORIGINAL-URL:https://stjosephandstmark.org
X-WR-CALDESC:Events for Springvale Parish of St. Joseph’s Church, St. Mark’s Church and the Vietnamese Community
REFRESH-INTERVAL;VALUE=DURATION:PT1H
X-Robots-Tag:noindex
X-PUBLISHED-TTL:PT1H
BEGIN:VTIMEZONE
TZID:Asia/Shanghai
BEGIN:STANDARD
TZOFFSETFROM:+0800
TZOFFSETTO:+0800
TZNAME:CST
DTSTART:20250101T000000
END:STANDARD
END:VTIMEZONE
BEGIN:VEVENT
DTSTART;TZID=Asia/Shanghai:20250809T080000
DTEND;TZID=Asia/Shanghai:20250809T170000
DTSTAMP:20260424T105611
CREATED:20250409T052656Z
LAST-MODIFIED:20250730T071605Z
UID:10000623-1754726400-1754758800@stjosephandstmark.org
SUMMARY:Thánh Lễ Rước Lễ Lần Đầu cho học sinh Trường St Mark lúc 5 giờ chiều
DESCRIPTION:
URL:https://stjosephandstmark.org/event/thanh-le-ruoc-le-lan-dau-cho-hoc-sinh-truong-st-mark-luc-5-gio-chieu/
END:VEVENT
BEGIN:VEVENT
DTSTART;TZID=Asia/Shanghai:20250813T080000
DTEND;TZID=Asia/Shanghai:20250813T170000
DTSTAMP:20260424T105611
CREATED:20250409T052707Z
LAST-MODIFIED:20250409T052707Z
UID:10000624-1755072000-1755104400@stjosephandstmark.org
SUMMARY:Hội Đồng Mục Vụ Giáo Xứ Họp 7 giờ 30 tối
DESCRIPTION:
URL:https://stjosephandstmark.org/event/hoi-dong-muc-vu-giao-xu-hop-7-gio-30-toi-9/
END:VEVENT
BEGIN:VEVENT
DTSTART;TZID=Asia/Shanghai:20250815T080000
DTEND;TZID=Asia/Shanghai:20250815T170000
DTSTAMP:20260424T105611
CREATED:20250409T052722Z
LAST-MODIFIED:20250409T052722Z
UID:10000625-1755244800-1755277200@stjosephandstmark.org
SUMMARY:Lễ Đức Mẹ Hồn Xác Lên Trời - Thánh lễ Trường St Joseph lúc 12 giờ trưa\, và Thánh lễ Trường St Mark lúc 9 giờ sáng
DESCRIPTION:
URL:https://stjosephandstmark.org/event/le-duc-me-hon-xac-len-troi-thanh-le-truong-st-joseph-luc-12-gio-trua-va-thanh-le-truong-st-mark-luc-9-gio-sang-2/
END:VEVENT
BEGIN:VEVENT
DTSTART;TZID=Asia/Shanghai:20250816T080000
DTEND;TZID=Asia/Shanghai:20250816T170000
DTSTAMP:20260424T105611
CREATED:20250409T052735Z
LAST-MODIFIED:20250409T052735Z
UID:10000626-1755331200-1755363600@stjosephandstmark.org
SUMMARY:Thánh lễ Thêm Sức Trường St Joseph lúc 1 giờ chiều & 3 giờ chiều
DESCRIPTION:
URL:https://stjosephandstmark.org/event/thanh-le-them-suc-truong-st-joseph-luc-1-gio-chieu-3-gio-chieu/
END:VEVENT
BEGIN:VEVENT
DTSTART;TZID=Asia/Shanghai:20250825T080000
DTEND;TZID=Asia/Shanghai:20250829T170000
DTSTAMP:20260424T105611
CREATED:20250409T052755Z
LAST-MODIFIED:20250409T052755Z
UID:10000627-1756108800-1756486800@stjosephandstmark.org
SUMMARY:Các Cha Phanxico đi tĩnh tâm
DESCRIPTION:
URL:https://stjosephandstmark.org/event/cac-cha-phanxico-di-tinh-tam/
END:VEVENT
END:VCALENDAR